BEGIN:VCALENDAR
VERSION:2.0
PRODID:-//Parohia Landshut - ECPv6.8.1//NONSGML v1.0//EN
CALSCALE:GREGORIAN
METHOD:PUBLISH
X-WR-CALNAME:Parohia Landshut
X-ORIGINAL-URL:https://parohia-landshut.de
X-WR-CALDESC:Events for Parohia Landshut
REFRESH-INTERVAL;VALUE=DURATION:PT1H
X-Robots-Tag:noindex
X-PUBLISHED-TTL:PT1H
BEGIN:VTIMEZONE
TZID:Europe/Berlin
BEGIN:DAYLIGHT
TZOFFSETFROM:+0100
TZOFFSETTO:+0200
TZNAME:CEST
DTSTART:20260329T010000
END:DAYLIGHT
BEGIN:STANDARD
TZOFFSETFROM:+0200
TZOFFSETTO:+0100
TZNAME:CET
DTSTART:20261025T010000
END:STANDARD
END:VTIMEZONE
BEGIN:VEVENT
DTSTART;TZID=Europe/Berlin:20260404T100000
DTEND;TZID=Europe/Berlin:20260404T110000
DTSTAMP:20260419T203219
CREATED:20260402T081050Z
LAST-MODIFIED:20260402T081050Z
UID:15777-1775296800-1775300400@parohia-landshut.de
SUMMARY:Spovedanie
DESCRIPTION:
URL:https://parohia-landshut.de/slujbe/spovedanie-24/
END:VEVENT
BEGIN:VEVENT
DTSTART;TZID=Europe/Berlin:20260404T140000
DTEND;TZID=Europe/Berlin:20260404T150000
DTSTAMP:20260419T203219
CREATED:20260402T081152Z
LAST-MODIFIED:20260402T081152Z
UID:15779-1775311200-1775314800@parohia-landshut.de
SUMMARY:Spovedanie
DESCRIPTION:
URL:https://parohia-landshut.de/slujbe/spovedanie-25/
END:VEVENT
BEGIN:VEVENT
DTSTART;TZID=Europe/Berlin:20260404T160000
DTEND;TZID=Europe/Berlin:20260404T170000
DTSTAMP:20260419T203219
CREATED:20260402T081247Z
LAST-MODIFIED:20260402T081247Z
UID:15781-1775318400-1775322000@parohia-landshut.de
SUMMARY:Spovedanie
DESCRIPTION:
URL:https://parohia-landshut.de/slujbe/spovedanie-26/
END:VEVENT
END:VCALENDAR