BEGIN:VCALENDAR
VERSION:2.0
PRODID:-//Parohia Landshut - ECPv6.8.1//NONSGML v1.0//EN
CALSCALE:GREGORIAN
METHOD:PUBLISH
X-WR-CALNAME:Parohia Landshut
X-ORIGINAL-URL:https://parohia-landshut.de
X-WR-CALDESC:Events for Parohia Landshut
REFRESH-INTERVAL;VALUE=DURATION:PT1H
X-Robots-Tag:noindex
X-PUBLISHED-TTL:PT1H
BEGIN:VTIMEZONE
TZID:Europe/Berlin
BEGIN:DAYLIGHT
TZOFFSETFROM:+0100
TZOFFSETTO:+0200
TZNAME:CEST
DTSTART:20260329T010000
END:DAYLIGHT
BEGIN:STANDARD
TZOFFSETFROM:+0200
TZOFFSETTO:+0100
TZNAME:CET
DTSTART:20261025T010000
END:STANDARD
END:VTIMEZONE
BEGIN:VEVENT
DTSTART;TZID=Europe/Berlin:20260417T090000
DTEND;TZID=Europe/Berlin:20260417T113000
DTSTAMP:20260419T202427
CREATED:20260402T090831Z
LAST-MODIFIED:20260402T090831Z
UID:15800-1776416400-1776425400@parohia-landshut.de
SUMMARY:Sf. Liturghie. Izvorul tămăduirii
DESCRIPTION:
URL:https://parohia-landshut.de/slujbe/sf-liturghie-izvorul-tamaduirii-2/
END:VEVENT
END:VCALENDAR