BEGIN:VCALENDAR
VERSION:2.0
PRODID:-//Parohia Landshut - ECPv6.8.1//NONSGML v1.0//EN
CALSCALE:GREGORIAN
METHOD:PUBLISH
X-WR-CALNAME:Parohia Landshut
X-ORIGINAL-URL:https://parohia-landshut.de
X-WR-CALDESC:Events for Parohia Landshut
REFRESH-INTERVAL;VALUE=DURATION:PT1H
X-Robots-Tag:noindex
X-PUBLISHED-TTL:PT1H
BEGIN:VTIMEZONE
TZID:Europe/Berlin
BEGIN:DAYLIGHT
TZOFFSETFROM:+0100
TZOFFSETTO:+0200
TZNAME:CEST
DTSTART:20250330T010000
END:DAYLIGHT
BEGIN:STANDARD
TZOFFSETFROM:+0200
TZOFFSETTO:+0100
TZNAME:CET
DTSTART:20251026T010000
END:STANDARD
END:VTIMEZONE
BEGIN:VEVENT
DTSTART;TZID=Europe/Berlin:20250425T090000
DTEND;TZID=Europe/Berlin:20250425T113000
DTSTAMP:20260423T134458
CREATED:20250402T151431Z
LAST-MODIFIED:20250402T151431Z
UID:15550-1745571600-1745580600@parohia-landshut.de
SUMMARY:Sf. Liturghie. Izvorul tămăduirii
DESCRIPTION:
URL:https://parohia-landshut.de/slujbe/sf-liturghie-izvorul-tamaduirii/
END:VEVENT
BEGIN:VEVENT
DTSTART;TZID=Europe/Berlin:20250427T090000
DTEND;TZID=Europe/Berlin:20250427T113000
DTSTAMP:20260423T134458
CREATED:20250402T144751Z
LAST-MODIFIED:20250402T144751Z
UID:15520-1745744400-1745753400@parohia-landshut.de
SUMMARY:Sf. Liturghie
DESCRIPTION:
URL:https://parohia-landshut.de/slujbe/sf-liturghie-29/
END:VEVENT
END:VCALENDAR