BEGIN:VCALENDAR
VERSION:2.0
PRODID:-//Parohia Landshut - ECPv6.8.1//NONSGML v1.0//EN
CALSCALE:GREGORIAN
METHOD:PUBLISH
X-ORIGINAL-URL:https://parohia-landshut.de
X-WR-CALDESC:Events for Parohia Landshut
REFRESH-INTERVAL;VALUE=DURATION:PT1H
X-Robots-Tag:noindex
X-PUBLISHED-TTL:PT1H
BEGIN:VTIMEZONE
TZID:Europe/Berlin
BEGIN:DAYLIGHT
TZOFFSETFROM:+0100
TZOFFSETTO:+0200
TZNAME:CEST
DTSTART:20250330T010000
END:DAYLIGHT
BEGIN:STANDARD
TZOFFSETFROM:+0200
TZOFFSETTO:+0100
TZNAME:CET
DTSTART:20251026T010000
END:STANDARD
END:VTIMEZONE
BEGIN:VEVENT
DTSTART;TZID=Europe/Berlin:20250503T160000
DTEND;TZID=Europe/Berlin:20250503T170000
DTSTAMP:20260423T153404
CREATED:20250502T143810Z
LAST-MODIFIED:20250502T143810Z
UID:15554-1746288000-1746291600@parohia-landshut.de
SUMMARY:Spovedanie
DESCRIPTION:
URL:https://parohia-landshut.de/slujbe/spovedanie-6/
END:VEVENT
BEGIN:VEVENT
DTSTART;TZID=Europe/Berlin:20250504T090000
DTEND;TZID=Europe/Berlin:20250504T113000
DTSTAMP:20260423T153404
CREATED:20250502T144141Z
LAST-MODIFIED:20250502T144141Z
UID:15561-1746349200-1746358200@parohia-landshut.de
SUMMARY:Sf. Liturghie
DESCRIPTION:
URL:https://parohia-landshut.de/slujbe/sf-liturghie-31/
END:VEVENT
BEGIN:VEVENT
DTSTART;TZID=Europe/Berlin:20250510T160000
DTEND;TZID=Europe/Berlin:20250510T170000
DTSTAMP:20260423T153404
CREATED:20250502T143904Z
LAST-MODIFIED:20250502T143904Z
UID:15557-1746892800-1746896400@parohia-landshut.de
SUMMARY:Spovedanie
DESCRIPTION:
URL:https://parohia-landshut.de/slujbe/spovedanie-7/
END:VEVENT
BEGIN:VEVENT
DTSTART;TZID=Europe/Berlin:20250511T090000
DTEND;TZID=Europe/Berlin:20250511T113000
DTSTAMP:20260423T153404
CREATED:20250502T144247Z
LAST-MODIFIED:20250502T144247Z
UID:15563-1746954000-1746963000@parohia-landshut.de
SUMMARY:Sf. Liturghie
DESCRIPTION:
URL:https://parohia-landshut.de/slujbe/sf-liturghie-32/
END:VEVENT
BEGIN:VEVENT
DTSTART;TZID=Europe/Berlin:20250512T090000
DTEND;TZID=Europe/Berlin:20250512T113000
DTSTAMP:20260423T153404
CREATED:20250502T144335Z
LAST-MODIFIED:20250502T144335Z
UID:15565-1747040400-1747049400@parohia-landshut.de
SUMMARY:Sf. Liturghie
DESCRIPTION:
URL:https://parohia-landshut.de/slujbe/sf-liturghie-33/
END:VEVENT
BEGIN:VEVENT
DTSTART;TZID=Europe/Berlin:20250518T090000
DTEND;TZID=Europe/Berlin:20250518T113000
DTSTAMP:20260423T153404
CREATED:20250502T144421Z
LAST-MODIFIED:20250502T144421Z
UID:15567-1747558800-1747567800@parohia-landshut.de
SUMMARY:Sf. Liturghie
DESCRIPTION:
URL:https://parohia-landshut.de/slujbe/sf-liturghie-34/
END:VEVENT
BEGIN:VEVENT
DTSTART;TZID=Europe/Berlin:20250521T090000
DTEND;TZID=Europe/Berlin:20250521T113000
DTSTAMP:20260423T153404
CREATED:20250502T144508Z
LAST-MODIFIED:20250502T144508Z
UID:15569-1747818000-1747827000@parohia-landshut.de
SUMMARY:Sf. Liturghie
DESCRIPTION:
URL:https://parohia-landshut.de/slujbe/sf-liturghie-35/
END:VEVENT
BEGIN:VEVENT
DTSTART;TZID=Europe/Berlin:20250524T160000
DTEND;TZID=Europe/Berlin:20250524T170000
DTSTAMP:20260423T153404
CREATED:20250502T144057Z
LAST-MODIFIED:20250502T144057Z
UID:15559-1748102400-1748106000@parohia-landshut.de
SUMMARY:Spovedanie
DESCRIPTION:
URL:https://parohia-landshut.de/slujbe/spovedanie-8/
END:VEVENT
BEGIN:VEVENT
DTSTART;TZID=Europe/Berlin:20250525T090000
DTEND;TZID=Europe/Berlin:20250525T113000
DTSTAMP:20260423T153404
CREATED:20250502T144550Z
LAST-MODIFIED:20250502T144550Z
UID:15572-1748163600-1748172600@parohia-landshut.de
SUMMARY:Sf. Liturghie
DESCRIPTION:
URL:https://parohia-landshut.de/slujbe/sf-liturghie-36/
END:VEVENT
BEGIN:VEVENT
DTSTART;TZID=Europe/Berlin:20250529T090000
DTEND;TZID=Europe/Berlin:20250529T113000
DTSTAMP:20260423T153404
CREATED:20250502T144637Z
LAST-MODIFIED:20250502T144637Z
UID:15574-1748509200-1748518200@parohia-landshut.de
SUMMARY:Sf. Liturghie
DESCRIPTION:
URL:https://parohia-landshut.de/slujbe/sf-liturghie-37/
END:VEVENT
BEGIN:VEVENT
DTSTART;TZID=Europe/Berlin:20250531T160000
DTEND;TZID=Europe/Berlin:20250531T170000
DTSTAMP:20260423T153404
CREATED:20250502T144741Z
LAST-MODIFIED:20250502T144741Z
UID:15576-1748707200-1748710800@parohia-landshut.de
SUMMARY:Spovedanie
DESCRIPTION:
URL:https://parohia-landshut.de/slujbe/spovedanie-9/
END:VEVENT
END:VCALENDAR