BEGIN:VCALENDAR
VERSION:2.0
PRODID:-//Parohia Landshut - ECPv6.8.1//NONSGML v1.0//EN
CALSCALE:GREGORIAN
METHOD:PUBLISH
X-ORIGINAL-URL:https://parohia-landshut.de
X-WR-CALDESC:Events for Parohia Landshut
REFRESH-INTERVAL;VALUE=DURATION:PT1H
X-Robots-Tag:noindex
X-PUBLISHED-TTL:PT1H
BEGIN:VTIMEZONE
TZID:Europe/Berlin
BEGIN:DAYLIGHT
TZOFFSETFROM:+0100
TZOFFSETTO:+0200
TZNAME:CEST
DTSTART:20250330T010000
END:DAYLIGHT
BEGIN:STANDARD
TZOFFSETFROM:+0200
TZOFFSETTO:+0100
TZNAME:CET
DTSTART:20251026T010000
END:STANDARD
END:VTIMEZONE
BEGIN:VEVENT
DTSTART;TZID=Europe/Berlin:20251108T090000
DTEND;TZID=Europe/Berlin:20251108T113000
DTSTAMP:20260424T010050
CREATED:20251105T155441Z
LAST-MODIFIED:20251105T155441Z
UID:15664-1762592400-1762601400@parohia-landshut.de
SUMMARY:Sf. Liturghie
DESCRIPTION:
URL:https://parohia-landshut.de/slujbe/sf-liturghie-58/
END:VEVENT
BEGIN:VEVENT
DTSTART;TZID=Europe/Berlin:20251108T160000
DTEND;TZID=Europe/Berlin:20251108T170000
DTSTAMP:20260424T010050
CREATED:20251105T155530Z
LAST-MODIFIED:20251105T155530Z
UID:15666-1762617600-1762621200@parohia-landshut.de
SUMMARY:Spovedanie
DESCRIPTION:
URL:https://parohia-landshut.de/slujbe/spovedanie-18/
END:VEVENT
BEGIN:VEVENT
DTSTART;TZID=Europe/Berlin:20251109T090000
DTEND;TZID=Europe/Berlin:20251109T113000
DTSTAMP:20260424T010050
CREATED:20251105T155613Z
LAST-MODIFIED:20251105T155613Z
UID:15668-1762678800-1762687800@parohia-landshut.de
SUMMARY:Sf. Liturghie
DESCRIPTION:
URL:https://parohia-landshut.de/slujbe/sf-liturghie-59/
END:VEVENT
BEGIN:VEVENT
DTSTART;TZID=Europe/Berlin:20251115T100000
DTEND;TZID=Europe/Berlin:20251115T110000
DTSTAMP:20260424T010050
CREATED:20251105T160324Z
LAST-MODIFIED:20251105T160324Z
UID:15670-1763200800-1763204400@parohia-landshut.de
SUMMARY:Hl. Liturgie-Η Θεία Λειτουργία
DESCRIPTION:
URL:https://parohia-landshut.de/slujbe/hl-liturgie-%ce%b7-%ce%b8%ce%b5%ce%af%ce%b1-%ce%bb%ce%b5%ce%b9%cf%84%ce%bf%cf%85%cf%81%ce%b3%ce%af%ce%b1/
END:VEVENT
BEGIN:VEVENT
DTSTART;TZID=Europe/Berlin:20251115T160000
DTEND;TZID=Europe/Berlin:20251115T170000
DTSTAMP:20260424T010050
CREATED:20251105T160415Z
LAST-MODIFIED:20251105T160415Z
UID:15672-1763222400-1763226000@parohia-landshut.de
SUMMARY:Spovedanie
DESCRIPTION:
URL:https://parohia-landshut.de/slujbe/spovedanie-19/
END:VEVENT
BEGIN:VEVENT
DTSTART;TZID=Europe/Berlin:20251116T090000
DTEND;TZID=Europe/Berlin:20251116T113000
DTSTAMP:20260424T010050
CREATED:20251105T160500Z
LAST-MODIFIED:20251105T160500Z
UID:15674-1763283600-1763292600@parohia-landshut.de
SUMMARY:Sf. Liturghie
DESCRIPTION:
URL:https://parohia-landshut.de/slujbe/sf-liturghie-60/
END:VEVENT
BEGIN:VEVENT
DTSTART;TZID=Europe/Berlin:20251121T090000
DTEND;TZID=Europe/Berlin:20251121T113000
DTSTAMP:20260424T010050
CREATED:20251105T160613Z
LAST-MODIFIED:20251105T160613Z
UID:15677-1763715600-1763724600@parohia-landshut.de
SUMMARY:Sf. Liturghie
DESCRIPTION:
URL:https://parohia-landshut.de/slujbe/sf-liturghie-61/
END:VEVENT
BEGIN:VEVENT
DTSTART;TZID=Europe/Berlin:20251122T100000
DTEND;TZID=Europe/Berlin:20251122T110000
DTSTAMP:20260424T010050
CREATED:20251105T160709Z
LAST-MODIFIED:20251105T160709Z
UID:15679-1763805600-1763809200@parohia-landshut.de
SUMMARY:Hl. Liturgie-Η Θεία Λειτουργία
DESCRIPTION:
URL:https://parohia-landshut.de/slujbe/hl-liturgie-%ce%b7-%ce%b8%ce%b5%ce%af%ce%b1-%ce%bb%ce%b5%ce%b9%cf%84%ce%bf%cf%85%cf%81%ce%b3%ce%af%ce%b1-2/
END:VEVENT
BEGIN:VEVENT
DTSTART;TZID=Europe/Berlin:20251122T160000
DTEND;TZID=Europe/Berlin:20251122T170000
DTSTAMP:20260424T010050
CREATED:20251105T160803Z
LAST-MODIFIED:20251105T160803Z
UID:15681-1763827200-1763830800@parohia-landshut.de
SUMMARY:Spovedanie
DESCRIPTION:
URL:https://parohia-landshut.de/slujbe/spovedanie-20/
END:VEVENT
BEGIN:VEVENT
DTSTART;TZID=Europe/Berlin:20251123T090000
DTEND;TZID=Europe/Berlin:20251123T113000
DTSTAMP:20260424T010050
CREATED:20251105T160859Z
LAST-MODIFIED:20251105T160859Z
UID:15683-1763888400-1763897400@parohia-landshut.de
SUMMARY:Sf. Liturghie
DESCRIPTION:
URL:https://parohia-landshut.de/slujbe/sf-liturghie-62/
END:VEVENT
BEGIN:VEVENT
DTSTART;TZID=Europe/Berlin:20251129T100000
DTEND;TZID=Europe/Berlin:20251129T110000
DTSTAMP:20260424T010050
CREATED:20251105T161014Z
LAST-MODIFIED:20251105T161014Z
UID:15685-1764410400-1764414000@parohia-landshut.de
SUMMARY:Hl. Liturgie-Η Θεία Λειτουργία
DESCRIPTION:
URL:https://parohia-landshut.de/slujbe/hl-liturgie-%ce%b7-%ce%b8%ce%b5%ce%af%ce%b1-%ce%bb%ce%b5%ce%b9%cf%84%ce%bf%cf%85%cf%81%ce%b3%ce%af%ce%b1-3/
END:VEVENT
BEGIN:VEVENT
DTSTART;TZID=Europe/Berlin:20251129T160000
DTEND;TZID=Europe/Berlin:20251129T180000
DTSTAMP:20260424T010050
CREATED:20251105T161106Z
LAST-MODIFIED:20251105T161150Z
UID:15687-1764432000-1764439200@parohia-landshut.de
SUMMARY:Sf. Maslu
DESCRIPTION:
URL:https://parohia-landshut.de/slujbe/spovedanie-21/
END:VEVENT
BEGIN:VEVENT
DTSTART;TZID=Europe/Berlin:20251130T090000
DTEND;TZID=Europe/Berlin:20251130T113000
DTSTAMP:20260424T010050
CREATED:20251105T161237Z
LAST-MODIFIED:20251105T161237Z
UID:15690-1764493200-1764502200@parohia-landshut.de
SUMMARY:Sf. Liturghie
DESCRIPTION:
URL:https://parohia-landshut.de/slujbe/sf-liturghie-63/
END:VEVENT
END:VCALENDAR