BEGIN:VCALENDAR
VERSION:2.0
PRODID:-//Parohia Landshut - ECPv6.8.1//NONSGML v1.0//EN
CALSCALE:GREGORIAN
METHOD:PUBLISH
X-ORIGINAL-URL:https://parohia-landshut.de
X-WR-CALDESC:Events for Parohia Landshut
REFRESH-INTERVAL;VALUE=DURATION:PT1H
X-Robots-Tag:noindex
X-PUBLISHED-TTL:PT1H
BEGIN:VTIMEZONE
TZID:Europe/Berlin
BEGIN:DAYLIGHT
TZOFFSETFROM:+0100
TZOFFSETTO:+0200
TZNAME:CEST
DTSTART:20260329T010000
END:DAYLIGHT
BEGIN:STANDARD
TZOFFSETFROM:+0200
TZOFFSETTO:+0100
TZNAME:CET
DTSTART:20261025T010000
END:STANDARD
END:VTIMEZONE
BEGIN:VEVENT
DTSTART;TZID=Europe/Berlin:20260201T090000
DTEND;TZID=Europe/Berlin:20260201T113000
DTSTAMP:20260419T220627
CREATED:20260131T122413Z
LAST-MODIFIED:20260131T122413Z
UID:15723-1769936400-1769945400@parohia-landshut.de
SUMMARY:Sf. Liturghie
DESCRIPTION:
URL:https://parohia-landshut.de/slujbe/sf-liturghie-5/
END:VEVENT
BEGIN:VEVENT
DTSTART;TZID=Europe/Berlin:20260202T090000
DTEND;TZID=Europe/Berlin:20260202T113000
DTSTAMP:20260419T220627
CREATED:20260131T122538Z
LAST-MODIFIED:20260131T122538Z
UID:15725-1770022800-1770031800@parohia-landshut.de
SUMMARY:Sf. Liturghie
DESCRIPTION:
URL:https://parohia-landshut.de/slujbe/sf-liturghie-6/
END:VEVENT
BEGIN:VEVENT
DTSTART;TZID=Europe/Berlin:20260207T160000
DTEND;TZID=Europe/Berlin:20260207T170000
DTSTAMP:20260419T220627
CREATED:20260131T123156Z
LAST-MODIFIED:20260131T123156Z
UID:15734-1770480000-1770483600@parohia-landshut.de
SUMMARY:Spovedanie
DESCRIPTION:
URL:https://parohia-landshut.de/slujbe/spovedanie/
END:VEVENT
BEGIN:VEVENT
DTSTART;TZID=Europe/Berlin:20260208T090000
DTEND;TZID=Europe/Berlin:20260208T113000
DTSTAMP:20260419T220627
CREATED:20260131T122628Z
LAST-MODIFIED:20260131T122628Z
UID:15727-1770541200-1770550200@parohia-landshut.de
SUMMARY:Sf. Liturghie
DESCRIPTION:
URL:https://parohia-landshut.de/slujbe/sf-liturghie-7/
END:VEVENT
BEGIN:VEVENT
DTSTART;TZID=Europe/Berlin:20260214T160000
DTEND;TZID=Europe/Berlin:20260214T170000
DTSTAMP:20260419T220627
CREATED:20260131T123300Z
LAST-MODIFIED:20260131T123300Z
UID:15736-1771084800-1771088400@parohia-landshut.de
SUMMARY:Spovedanie
DESCRIPTION:
URL:https://parohia-landshut.de/slujbe/spovedanie-2/
END:VEVENT
BEGIN:VEVENT
DTSTART;TZID=Europe/Berlin:20260215T090000
DTEND;TZID=Europe/Berlin:20260215T113000
DTSTAMP:20260419T220627
CREATED:20260131T122731Z
LAST-MODIFIED:20260131T122731Z
UID:15729-1771146000-1771155000@parohia-landshut.de
SUMMARY:Sf. Liturghie
DESCRIPTION:
URL:https://parohia-landshut.de/slujbe/sf-liturghie-8/
END:VEVENT
BEGIN:VEVENT
DTSTART;TZID=Europe/Berlin:20260221T160000
DTEND;TZID=Europe/Berlin:20260221T170000
DTSTAMP:20260419T220627
CREATED:20260131T123350Z
LAST-MODIFIED:20260131T123350Z
UID:15738-1771689600-1771693200@parohia-landshut.de
SUMMARY:Spovedanie
DESCRIPTION:
URL:https://parohia-landshut.de/slujbe/spovedanie-3/
END:VEVENT
BEGIN:VEVENT
DTSTART;TZID=Europe/Berlin:20260222T090000
DTEND;TZID=Europe/Berlin:20260222T113000
DTSTAMP:20260419T220627
CREATED:20260131T122846Z
LAST-MODIFIED:20260131T122846Z
UID:15731-1771750800-1771759800@parohia-landshut.de
SUMMARY:Sf. Liturghie
DESCRIPTION:
URL:https://parohia-landshut.de/slujbe/sf-liturghie-9/
END:VEVENT
END:VCALENDAR