BEGIN:VCALENDAR
VERSION:2.0
PRODID:-//Parohia Landshut - ECPv6.8.1//NONSGML v1.0//EN
CALSCALE:GREGORIAN
METHOD:PUBLISH
X-WR-CALNAME:Parohia Landshut
X-ORIGINAL-URL:https://parohia-landshut.de
X-WR-CALDESC:Events for Parohia Landshut
REFRESH-INTERVAL;VALUE=DURATION:PT1H
X-Robots-Tag:noindex
X-PUBLISHED-TTL:PT1H
BEGIN:VTIMEZONE
TZID:Europe/Berlin
BEGIN:DAYLIGHT
TZOFFSETFROM:+0100
TZOFFSETTO:+0200
TZNAME:CEST
DTSTART:20260329T010000
END:DAYLIGHT
BEGIN:STANDARD
TZOFFSETFROM:+0200
TZOFFSETTO:+0100
TZNAME:CET
DTSTART:20261025T010000
END:STANDARD
END:VTIMEZONE
BEGIN:VEVENT
DTSTART;TZID=Europe/Berlin:20260301T090000
DTEND;TZID=Europe/Berlin:20260301T113000
DTSTAMP:20260419T202650
CREATED:20260227T194032Z
LAST-MODIFIED:20260227T194032Z
UID:15742-1772355600-1772364600@parohia-landshut.de
SUMMARY:Sf. Liturghie
DESCRIPTION:
URL:https://parohia-landshut.de/slujbe/sf-liturghie-10/
END:VEVENT
BEGIN:VEVENT
DTSTART;TZID=Europe/Berlin:20260306T180000
DTEND;TZID=Europe/Berlin:20260306T200000
DTSTAMP:20260419T202650
CREATED:20260302T203554Z
LAST-MODIFIED:20260302T203554Z
UID:15763-1772820000-1772827200@parohia-landshut.de
SUMMARY:Sf. Liturghie a Darurilor mai Înainte Sfințite
DESCRIPTION:
URL:https://parohia-landshut.de/slujbe/sf-liturghie-a-darurilor-mai-inainte-sfintite/
END:VEVENT
BEGIN:VEVENT
DTSTART;TZID=Europe/Berlin:20260307T160000
DTEND;TZID=Europe/Berlin:20260307T170000
DTSTAMP:20260419T202650
CREATED:20260227T194737Z
LAST-MODIFIED:20260227T194737Z
UID:15752-1772899200-1772902800@parohia-landshut.de
SUMMARY:Spovedanie
DESCRIPTION:
URL:https://parohia-landshut.de/slujbe/spovedanie-4/
END:VEVENT
BEGIN:VEVENT
DTSTART;TZID=Europe/Berlin:20260308T090000
DTEND;TZID=Europe/Berlin:20260308T113000
DTSTAMP:20260419T202650
CREATED:20260227T194140Z
LAST-MODIFIED:20260227T194140Z
UID:15744-1772960400-1772969400@parohia-landshut.de
SUMMARY:Sf. Liturghie
DESCRIPTION:
URL:https://parohia-landshut.de/slujbe/sf-liturghie-11/
END:VEVENT
BEGIN:VEVENT
DTSTART;TZID=Europe/Berlin:20260313T180000
DTEND;TZID=Europe/Berlin:20260313T200000
DTSTAMP:20260419T202650
CREATED:20260302T203810Z
LAST-MODIFIED:20260302T203810Z
UID:15766-1773424800-1773432000@parohia-landshut.de
SUMMARY:Sf. Liturghie a Darurilor mai Înainte Sfințite
DESCRIPTION:
URL:https://parohia-landshut.de/slujbe/sf-liturghie-a-darurilor-mai-inainte-sfintite-2/
END:VEVENT
BEGIN:VEVENT
DTSTART;TZID=Europe/Berlin:20260315T090000
DTEND;TZID=Europe/Berlin:20260315T113000
DTSTAMP:20260419T202650
CREATED:20260227T194315Z
LAST-MODIFIED:20260227T194315Z
UID:15746-1773565200-1773574200@parohia-landshut.de
SUMMARY:Sf. Liturghie
DESCRIPTION:
URL:https://parohia-landshut.de/slujbe/sf-liturghie-12/
END:VEVENT
BEGIN:VEVENT
DTSTART;TZID=Europe/Berlin:20260320T180000
DTEND;TZID=Europe/Berlin:20260320T200000
DTSTAMP:20260419T202650
CREATED:20260302T203923Z
LAST-MODIFIED:20260302T203923Z
UID:15768-1774029600-1774036800@parohia-landshut.de
SUMMARY:Sf. Liturghie a Darurilor mai Înainte Sfințite
DESCRIPTION:
URL:https://parohia-landshut.de/slujbe/sf-liturghie-a-darurilor-mai-inainte-sfintite-3/
END:VEVENT
BEGIN:VEVENT
DTSTART;TZID=Europe/Berlin:20260321T100000
DTEND;TZID=Europe/Berlin:20260321T110000
DTSTAMP:20260419T202650
CREATED:20260315T063537Z
LAST-MODIFIED:20260315T063537Z
UID:15774-1774087200-1774090800@parohia-landshut.de
SUMMARY:Spovedanie
DESCRIPTION:
URL:https://parohia-landshut.de/slujbe/spovedanie-23/
END:VEVENT
BEGIN:VEVENT
DTSTART;TZID=Europe/Berlin:20260321T170000
DTEND;TZID=Europe/Berlin:20260321T180000
DTSTAMP:20260419T202650
CREATED:20260227T194918Z
LAST-MODIFIED:20260315T063435Z
UID:15754-1774112400-1774116000@parohia-landshut.de
SUMMARY:Spovedanie
DESCRIPTION:
URL:https://parohia-landshut.de/slujbe/spovedanie-5/
END:VEVENT
BEGIN:VEVENT
DTSTART;TZID=Europe/Berlin:20260322T090000
DTEND;TZID=Europe/Berlin:20260322T113000
DTSTAMP:20260419T202650
CREATED:20260227T194540Z
LAST-MODIFIED:20260227T194540Z
UID:15748-1774170000-1774179000@parohia-landshut.de
SUMMARY:Sf. Liturghie
DESCRIPTION:
URL:https://parohia-landshut.de/slujbe/sf-liturghie-13/
END:VEVENT
BEGIN:VEVENT
DTSTART;TZID=Europe/Berlin:20260325T090000
DTEND;TZID=Europe/Berlin:20260325T113000
DTSTAMP:20260419T202650
CREATED:20260227T195152Z
LAST-MODIFIED:20260227T195152Z
UID:15756-1774429200-1774438200@parohia-landshut.de
SUMMARY:Sf. Liturghie. Buna Vestire
DESCRIPTION:
URL:https://parohia-landshut.de/slujbe/sf-liturghie-buna-vestire/
END:VEVENT
BEGIN:VEVENT
DTSTART;TZID=Europe/Berlin:20260327T180000
DTEND;TZID=Europe/Berlin:20260327T200000
DTSTAMP:20260419T202650
CREATED:20260302T204038Z
LAST-MODIFIED:20260302T204038Z
UID:15770-1774634400-1774641600@parohia-landshut.de
SUMMARY:Sf. Liturghie a Darurilor mai Înainte Sfințite
DESCRIPTION:
URL:https://parohia-landshut.de/slujbe/sf-liturghie-a-darurilor-mai-inainte-sfintite-4/
END:VEVENT
BEGIN:VEVENT
DTSTART;TZID=Europe/Berlin:20260328T160000
DTEND;TZID=Europe/Berlin:20260328T180000
DTSTAMP:20260419T202650
CREATED:20260227T195607Z
LAST-MODIFIED:20260227T195607Z
UID:15760-1774713600-1774720800@parohia-landshut.de
SUMMARY:Sf. Maslu
DESCRIPTION:
URL:https://parohia-landshut.de/slujbe/sf-maslu-2/
END:VEVENT
BEGIN:VEVENT
DTSTART;TZID=Europe/Berlin:20260329T090000
DTEND;TZID=Europe/Berlin:20260329T113000
DTSTAMP:20260419T202650
CREATED:20260227T194625Z
LAST-MODIFIED:20260227T194625Z
UID:15750-1774774800-1774783800@parohia-landshut.de
SUMMARY:Sf. Liturghie
DESCRIPTION:
URL:https://parohia-landshut.de/slujbe/sf-liturghie-14/
END:VEVENT
END:VCALENDAR